BEGIN:VCALENDAR
PRODID:-//Feedo Feed//NONSGML v1.0//EN
VERSION:2.0
CALSCALE:GREGORIAN
METHOD:PUBLISH
X-WR-CALNAME:L5P AMP Wednesday
X-WR-CALDESC:Group classes. \nPrep for the day.\nReceive students from carpool.\n \n 
X-MS-OLK-FORCEINSPECTOROPEN:TRUE
BEGIN:VEVENT
DTSTAMP:20260420T160704Z
DTSTART:20200401T133000Z
DTEND:20200401T150000Z
TRANSP:TRANSPARENT
UID:828752020-04-01
SUMMARY:L5P AMP Wednesday
DESCRIPTION:Group classes. \nPrep for the day.\nReceive students from carpool.\n \n 
URL:http://www.cmcatlanta.com/index.php/component/ohanah/l5p-amp-wednesday-32?format=html&amp;Itemid=
CATEGORIES:Whittaker Dallas
GEO:33.764702;-84.35057239999998
LOCATION:CMC Little Five Points, Faculty Assignment
END:VEVENT
END:VCALENDAR