BEGIN:VCALENDAR
PRODID:-//Feedo Feed//NONSGML v1.0//EN
VERSION:2.0
CALSCALE:GREGORIAN
METHOD:PUBLISH
X-WR-CALNAME:L5P AMP (Wednesday)
X-WR-CALDESC:
X-MS-OLK-FORCEINSPECTOROPEN:TRUE
BEGIN:VEVENT
DTSTAMP:20260423T034918Z
DTSTART:20211110T130000Z
DTEND:20211110T173000Z
TRANSP:TRANSPARENT
UID:990082021-11-10
SUMMARY:L5P AMP (Wednesday)
DESCRIPTION:
URL:http://www.cmcatlanta.com/index.php/component/ohanah/l5p-amp-wednesday-80-12?format=html&amp;Itemid=
CATEGORIES:Pedro Morales
GEO:
LOCATION:CMC Little 5 Points, Faculty Assignment
END:VEVENT
END:VCALENDAR