BEGIN:VCALENDAR
PRODID:-//Feedo Feed//NONSGML v1.0//EN
VERSION:2.0
CALSCALE:GREGORIAN
METHOD:PUBLISH
X-WR-CALNAME:L5P Fall Break Day Camp: 80s Rock!
X-WR-CALDESC:October 9-13   9 am to 4 pm (drop off starts at 8 am, pick up by 6:00 pm)\nHalf Day morning (8 am to 12:30 pm) or afternoon (12:30-6 pm) available\nEligible grades: K-5, 6-8\nThe CMC Decatur Fall break camp will focus on the best of the 1980s rock scene.  We've designed the program to be the perfect blend of legitimate training and immersion in the music and good old-fashioned fun.  Elementary school age students are invited to join us for a full week or come on one or more selected days via the Music School Day Pass.  Activities will include lessons, classes, singing, and ensemble playing with Center faculty and fellow students.  \nFull Day: $295 per week\nHalf Day morning (8 to 12:30) or afternoon (12:30 to 6:00): $195 per week\nDrop in: Full Day $65 per day, Half Day $45 per day\nConservatory for Kids Camp Series\nThe CMC L5P Rock Day Camp is part of our Conservatory for Kids Camp Series. Conservatory for Kids camps are suitable for both beginners and more advanced students.  Depending on the student's background, the camps introduce or deepen a student's familiarity with a musical style or tradition.  During the camps, each student meets one-on-one or in small groups with a primary studio instructor for a 30- to 45-minute lesson on an instrument of choice or for vocal coaching.  Students sing, drum, and also study notation, theory, and composition or song-writing through creatively designed and fun hands on classes, activities, and projects.  Arts and crafts activities focus on music-related art and building primitive instruments reflective of the style or tradition.   Faculty and guest performers also entertain and dazzle campers.  Like all Conservatory for Kids camps, the Rock Camp Music Camp will include ample break time and work on camp projects outdoors around and nearby the Center to meet the developmental needs of the enrolled children.\nCurrent CMC Atlanta students may register for this program and pay later using the Quick Registration Form (use the Register link below)\nNew students should enroll via our standard Day Camp Registration Form here-- we need more info from you than the Quick Form provides.  Enroll now, space is limited and offered on a first come, first served basis.\nQuestions?  Please feel free to contact Phil@CMCAtlanta.com\n 
X-MS-OLK-FORCEINSPECTOROPEN:TRUE
BEGIN:VEVENT
DTSTAMP:20260424T100110Z
DTSTART:20171009T120000Z
DTEND:20171013T220000Z
TRANSP:TRANSPARENT
UID:593472017-10-09
SUMMARY:L5P Fall Break Day Camp: 80s Rock!
DESCRIPTION:October 9-13   9 am to 4 pm (drop off starts at 8 am, pick up by 6:00 pm)\nHalf Day morning (8 am to 12:30 pm) or afternoon (12:30-6 pm) available\nEligible grades: K-5, 6-8\nThe CMC Decatur Fall break camp will focus on the best of the 1980s rock scene.  We've designed the program to be the perfect blend of legitimate training and immersion in the music and good old-fashioned fun.  Elementary school age students are invited to join us for a full week or come on one or more selected days via the Music School Day Pass.  Activities will include lessons, classes, singing, and ensemble playing with Center faculty and fellow students.  \nFull Day: $295 per week\nHalf Day morning (8 to 12:30) or afternoon (12:30 to 6:00): $195 per week\nDrop in: Full Day $65 per day, Half Day $45 per day\nConservatory for Kids Camp Series\nThe CMC L5P Rock Day Camp is part of our Conservatory for Kids Camp Series. Conservatory for Kids camps are suitable for both beginners and more advanced students.  Depending on the student's background, the camps introduce or deepen a student's familiarity with a musical style or tradition.  During the camps, each student meets one-on-one or in small groups with a primary studio instructor for a 30- to 45-minute lesson on an instrument of choice or for vocal coaching.  Students sing, drum, and also study notation, theory, and composition or song-writing through creatively designed and fun hands on classes, activities, and projects.  Arts and crafts activities focus on music-related art and building primitive instruments reflective of the style or tradition.   Faculty and guest performers also entertain and dazzle campers.  Like all Conservatory for Kids camps, the Rock Camp Music Camp will include ample break time and work on camp projects outdoors around and nearby the Center to meet the developmental needs of the enrolled children.\nCurrent CMC Atlanta students may register for this program and pay later using the Quick Registration Form (use the Register link below)\nNew students should enroll via our standard Day Camp Registration Form here-- we need more info from you than the Quick Form provides.  Enroll now, space is limited and offered on a first come, first served basis.\nQuestions?  Please feel free to contact Phil@CMCAtlanta.com\n 
URL:http://www.cmcatlanta.com/index.php/component/ohanah/l5p-fall-break-day-camp-80s-rock?format=html&amp;Itemid=
CATEGORIES:Master Calendar
GEO:33.7646878;-84.35068100000001
LOCATION:CMC Little 5 Points 
END:VEVENT
END:VCALENDAR