BEGIN:VCALENDAR
PRODID:-//Feedo Feed//NONSGML v1.0//EN
VERSION:2.0
CALSCALE:GREGORIAN
METHOD:PUBLISH
X-WR-CALNAME:L5P Fall Break 
X-WR-CALDESC:No studio lessons\nNo AMP\nNo AMHS
X-MS-OLK-FORCEINSPECTOROPEN:TRUE
BEGIN:VEVENT
DTSTAMP:20260422T031607Z
DTSTART:20221010T040000Z
DTEND:20221016T220000Z
TRANSP:TRANSPARENT
UID:1060102022-10-10
SUMMARY:L5P Fall Break 
DESCRIPTION:No studio lessons\nNo AMP\nNo AMHS
URL:http://www.cmcatlanta.com/index.php/component/ohanah/l5p-fall-break-no-lessons-or-classes?format=html&amp;Itemid=
CATEGORIES:Master Calendar
GEO:33.7646878;-84.35068100000001
LOCATION:CMC Little 5 Points 
END:VEVENT
END:VCALENDAR