BEGIN:VCALENDAR
PRODID:-//Feedo Feed//NONSGML v1.0//EN
VERSION:2.0
CALSCALE:GREGORIAN
METHOD:PUBLISH
X-WR-CALNAME:L5P Halloween Festival & Parade
X-WR-CALDESC:It's the annual event in Little 5.  Sponsored by the Little 5 Points Business Association, the highlight of the event is the family friendly parade at 4 pm.  \nOur float this year will feature Atlanta Music High and CMC Atlanta Performance Workshop students.  Before and after the parade, check out the newest member of our faculty, cellist Jenn Cornell, who will be playing outdoors next to CMC Little 5 Points.  \nAtlanta Music High and Performance Workshop Students\nArrival, float decorating, warm up begins at 10:00 am.  We roll out to line up for the parade at 2.  Parade steps off at 4.  Wrapped by 5:30.\nAMP students and parents\nWant to walk with us?  Meet at the Music Center by 3:00.  Students must be accompanied by a parent or guardian. \n 
X-MS-OLK-FORCEINSPECTOROPEN:TRUE
BEGIN:VEVENT
DTSTAMP:20260424T133838Z
DTSTART:20171021T180000Z
DTEND:20171021T220000Z
TRANSP:TRANSPARENT
UID:599812017-10-21
SUMMARY:L5P Halloween Festival & Parade
DESCRIPTION:It's the annual event in Little 5.  Sponsored by the Little 5 Points Business Association, the highlight of the event is the family friendly parade at 4 pm.  \nOur float this year will feature Atlanta Music High and CMC Atlanta Performance Workshop students.  Before and after the parade, check out the newest member of our faculty, cellist Jenn Cornell, who will be playing outdoors next to CMC Little 5 Points.  \nAtlanta Music High and Performance Workshop Students\nArrival, float decorating, warm up begins at 10:00 am.  We roll out to line up for the parade at 2.  Parade steps off at 4.  Wrapped by 5:30.\nAMP students and parents\nWant to walk with us?  Meet at the Music Center by 3:00.  Students must be accompanied by a parent or guardian. \n 
URL:http://www.cmcatlanta.com/index.php/component/ohanah/l5p-halloween-festival-parade-1?format=html&amp;Itemid=
CATEGORIES:Master Calendar
GEO:33.7646878;-84.35068100000001
LOCATION:CMC Little 5 Points 
END:VEVENT
END:VCALENDAR