BEGIN:VCALENDAR
PRODID:-//Feedo Feed//NONSGML v1.0//EN
VERSION:2.0
CALSCALE:GREGORIAN
METHOD:PUBLISH
X-WR-CALNAME:L5P Halloween Parade
X-WR-CALDESC:https://www.l5phalloween.com\n \n 
X-MS-OLK-FORCEINSPECTOROPEN:TRUE
BEGIN:VEVENT
DTSTAMP:20260422T044840Z
DTSTART:20221023T150000Z
DTEND:20221023T200000Z
TRANSP:TRANSPARENT
UID:1060802022-10-23
SUMMARY:L5P Halloween Parade
DESCRIPTION:https://www.l5phalloween.com\n \n 
URL:http://www.cmcatlanta.com/index.php/component/ohanah/l5p-halloween-parade-2?format=html&amp;Itemid=
CATEGORIES:Master Calendar
GEO:33.7646878;-84.35068100000001
LOCATION:CMC Little 5 Points 
END:VEVENT
END:VCALENDAR