BEGIN:VCALENDAR
PRODID:-//Feedo Feed//NONSGML v1.0//EN
VERSION:2.0
CALSCALE:GREGORIAN
METHOD:PUBLISH
X-WR-CALNAME:L5P Salon Recital
X-WR-CALDESC:Informal recital for students of any age studying at any CMC Atlanta location to showcase their songs and projects for family, friends, and peers.  Light refreshments provided for students and guests.\nLimited parking available at CMC Little 5 Points.  Additional free parking in nearby business lots and along Colquitt Ave until 4 pm.  Paid parking lots and inexpensive metered parking along Euclid Ave within a short walking distance.  Be careful not to park in apartment complex parking lots: you'll be booted or towed.   
X-MS-OLK-FORCEINSPECTOROPEN:TRUE
BEGIN:VEVENT
DTSTAMP:20260424T074410Z
DTSTART:20170930T173000Z
DTEND:20170930T183000Z
TRANSP:TRANSPARENT
UID:593502017-09-30
SUMMARY:L5P Salon Recital
DESCRIPTION:Informal recital for students of any age studying at any CMC Atlanta location to showcase their songs and projects for family, friends, and peers.  Light refreshments provided for students and guests.\nLimited parking available at CMC Little 5 Points.  Additional free parking in nearby business lots and along Colquitt Ave until 4 pm.  Paid parking lots and inexpensive metered parking along Euclid Ave within a short walking distance.  Be careful not to park in apartment complex parking lots: you'll be booted or towed.   
URL:http://www.cmcatlanta.com/index.php/component/ohanah/l5p-salon-recital?format=html&amp;Itemid=
CATEGORIES:Master Calendar
GEO:33.7646878;-84.35068100000001
LOCATION:CMC Little 5 Points 
END:VEVENT
END:VCALENDAR