BEGIN:VCALENDAR
PRODID:-//Feedo Feed//NONSGML v1.0//EN
VERSION:2.0
CALSCALE:GREGORIAN
METHOD:PUBLISH
X-WR-CALNAME:L5P Schoolhouse Rock
X-WR-CALDESC:
X-MS-OLK-FORCEINSPECTOROPEN:TRUE
BEGIN:VEVENT
DTSTAMP:20260422T185700Z
DTSTART:20210712T120000Z
DTEND:20210712T200000Z
TRANSP:TRANSPARENT
UID:958722021-07-12
SUMMARY:L5P Schoolhouse Rock
DESCRIPTION:
URL:http://www.cmcatlanta.com/index.php/component/ohanah/l5p-schoolhouse-rock-1?format=html&amp;Itemid=
CATEGORIES:Stephanie Cordoba 
GEO:33.764702;-84.35057239999998
LOCATION:CMC Little Five Points, Faculty Assignment
END:VEVENT
END:VCALENDAR