BEGIN:VCALENDAR
PRODID:-//Feedo Feed//NONSGML v1.0//EN
VERSION:2.0
CALSCALE:GREGORIAN
METHOD:PUBLISH
X-WR-CALNAME:Landon Mitchell
X-WR-CALDESC:
X-MS-OLK-FORCEINSPECTOROPEN:TRUE
BEGIN:VEVENT
DTSTAMP:20260422T172659Z
DTSTART:20210706T133000Z
DTEND:20210706T140000Z
TRANSP:TRANSPARENT
UID:958982021-07-06
SUMMARY:Landon Mitchell
DESCRIPTION:
URL:http://www.cmcatlanta.com/index.php/component/ohanah/landon-mitchell?format=html&amp;Itemid=
CATEGORIES:Pedro Morales
GEO:33.7646878;-84.35068100000001
LOCATION:CMC Little 5 Points, Private Lesson
END:VEVENT
END:VCALENDAR