BEGIN:VCALENDAR
PRODID:-//Feedo Feed//NONSGML v1.0//EN
VERSION:2.0
CALSCALE:GREGORIAN
METHOD:PUBLISH
X-WR-CALNAME:Last day of spring term for After School Music Program and Private lessons
X-WR-CALDESC:
X-MS-OLK-FORCEINSPECTOROPEN:TRUE
BEGIN:VEVENT
DTSTAMP:20260421T125020Z
DTSTART:20220527T040000Z
DTEND:20220527T040000Z
TRANSP:TRANSPARENT
UID:1050462022-05-27
SUMMARY:Last day of spring term for After School Music Program and Private lessons
DESCRIPTION:
URL:http://www.cmcatlanta.com/index.php/component/ohanah/last-day-of-spring-term-for-after-school-music-program-and-private-lessons?format=html&amp;Itemid=
CATEGORIES:Master Calendar
GEO:33.7646878;-84.35068100000001
LOCATION:CMC Little 5 Points 
END:VEVENT
END:VCALENDAR