BEGIN:VCALENDAR
PRODID:-//Feedo Feed//NONSGML v1.0//EN
VERSION:2.0
CALSCALE:GREGORIAN
METHOD:PUBLISH
X-WR-CALNAME:Leah Dutko
X-WR-CALDESC:
X-MS-OLK-FORCEINSPECTOROPEN:TRUE
BEGIN:VEVENT
DTSTAMP:20260422T012544Z
DTSTART:20221003T200000Z
DTEND:20221003T203000Z
TRANSP:TRANSPARENT
UID:1091492022-10-03
SUMMARY:Leah Dutko
DESCRIPTION:
URL:http://www.cmcatlanta.com/index.php/component/ohanah/leah-dutko-1?format=html&amp;Itemid=
CATEGORIES:Diana Orozco
GEO:33.7704955;-84.29584339999997
LOCATION:CMC Decatur, Private Lesson
END:VEVENT
END:VCALENDAR