BEGIN:VCALENDAR
PRODID:-//Feedo Feed//NONSGML v1.0//EN
VERSION:2.0
CALSCALE:GREGORIAN
METHOD:PUBLISH
X-WR-CALNAME:Leia Towers
X-WR-CALDESC:
X-MS-OLK-FORCEINSPECTOROPEN:TRUE
BEGIN:VEVENT
DTSTAMP:20260422T202113Z
DTSTART:20210722T170000Z
DTEND:20210722T173000Z
TRANSP:TRANSPARENT
UID:963072021-07-22
SUMMARY:Leia Towers
DESCRIPTION:
URL:http://www.cmcatlanta.com/index.php/component/ohanah/leia-towers-1?format=html&amp;Itemid=
CATEGORIES:Peter Sloan
GEO:33.7704955;-84.29584339999997
LOCATION:CMC Decatur, Private Lesson
END:VEVENT
END:VCALENDAR