BEGIN:VCALENDAR
PRODID:-//Feedo Feed//NONSGML v1.0//EN
VERSION:2.0
CALSCALE:GREGORIAN
METHOD:PUBLISH
X-WR-CALNAME:lesson planning time
X-WR-CALDESC:Complete lesson plans for the following week for private students and for group instruction.  
X-MS-OLK-FORCEINSPECTOROPEN:TRUE
BEGIN:VEVENT
DTSTAMP:20260424T170754Z
DTSTART:20171028T133000Z
DTEND:20171028T140000Z
TRANSP:TRANSPARENT
UID:598892017-10-28
SUMMARY:lesson planning time
DESCRIPTION:Complete lesson plans for the following week for private students and for group instruction.  
URL:http://www.cmcatlanta.com/index.php/component/ohanah/lesson-planning-time-1?format=html&amp;Itemid=
CATEGORIES:Bernie Manela
GEO:33.94902;-84.33631689999999
LOCATION:CMC Dunwoody, Faculty Assignment
END:VEVENT
END:VCALENDAR