BEGIN:VCALENDAR
PRODID:-//Feedo Feed//NONSGML v1.0//EN
VERSION:2.0
CALSCALE:GREGORIAN
METHOD:PUBLISH
X-WR-CALNAME:Libby Coleman
X-WR-CALDESC:in person
X-MS-OLK-FORCEINSPECTOROPEN:TRUE
BEGIN:VEVENT
DTSTAMP:20260421T184735Z
DTSTART:20210323T214500Z
DTEND:20210323T221500Z
TRANSP:TRANSPARENT
UID:946062021-03-23
SUMMARY:Libby Coleman
DESCRIPTION:in person
URL:http://www.cmcatlanta.com/index.php/component/ohanah/libby-coleman-21?format=html&amp;Itemid=
CATEGORIES:Peter Sloan
GEO:33.7704955;-84.29584339999997
LOCATION:CMC Decatur, Private Lesson
END:VEVENT
END:VCALENDAR