BEGIN:VCALENDAR
PRODID:-//Feedo Feed//NONSGML v1.0//EN
VERSION:2.0
CALSCALE:GREGORIAN
METHOD:PUBLISH
X-WR-CALNAME:Little 5 Points Schoolhouse Rock Camp
X-WR-CALDESC:
X-MS-OLK-FORCEINSPECTOROPEN:TRUE
BEGIN:VEVENT
DTSTAMP:20260423T005808Z
DTSTART:20210715T120000Z
DTEND:20210715T170000Z
TRANSP:TRANSPARENT
UID:958952021-07-15
SUMMARY:Little 5 Points Schoolhouse Rock Camp
DESCRIPTION:
URL:http://www.cmcatlanta.com/index.php/component/ohanah/little-5-points-schoolhouse-rock-camp-2?format=html&amp;Itemid=
CATEGORIES:Brock Tammeus
GEO:
LOCATION:CMC Little 5 Points, Faculty Assignment
END:VEVENT
END:VCALENDAR