BEGIN:VCALENDAR
PRODID:-//Feedo Feed//NONSGML v1.0//EN
VERSION:2.0
CALSCALE:GREGORIAN
METHOD:PUBLISH
X-WR-CALNAME:Lower elementary class supervision
X-WR-CALDESC:
X-MS-OLK-FORCEINSPECTOROPEN:TRUE
BEGIN:VEVENT
DTSTAMP:20260424T062944Z
DTSTART:20230821T190000Z
DTEND:20230821T193000Z
TRANSP:TRANSPARENT
UID:1133942023-08-21
SUMMARY:Lower elementary class supervision
DESCRIPTION:
URL:http://www.cmcatlanta.com/index.php/component/ohanah/lower-elementary-class-supervision-2?format=html&amp;Itemid=
CATEGORIES:Jack Lloyd
GEO:33.7704955;-84.29584339999997
LOCATION:CMC Decatur, Private Lesson
END:VEVENT
END:VCALENDAR