BEGIN:VCALENDAR
PRODID:-//Feedo Feed//NONSGML v1.0//EN
VERSION:2.0
CALSCALE:GREGORIAN
METHOD:PUBLISH
X-WR-CALNAME:Lucas Beckford (online lesson sub for Diana Orozco
X-WR-CALDESC:
X-MS-OLK-FORCEINSPECTOROPEN:TRUE
BEGIN:VEVENT
DTSTAMP:20260422T214825Z
DTSTART:20210721T150000Z
DTEND:20210721T153000Z
TRANSP:TRANSPARENT
UID:963062021-07-21
SUMMARY:Lucas Beckford (online lesson sub for Diana Orozco
DESCRIPTION:
URL:http://www.cmcatlanta.com/index.php/component/ohanah/lucas-beckford-online-lesson-sub-for-diana-orozco?format=html&amp;Itemid=
CATEGORIES:2013 Student Roster: Assignment Folder
GEO:
LOCATION:
END:VEVENT
END:VCALENDAR