BEGIN:VCALENDAR
PRODID:-//Feedo Feed//NONSGML v1.0//EN
VERSION:2.0
CALSCALE:GREGORIAN
METHOD:PUBLISH
X-WR-CALNAME:Lucy and Nora, voice lessons
X-WR-CALDESC:Ages 10 and 8.  Also taking piano lessons, switch off with Diana.  
X-MS-OLK-FORCEINSPECTOROPEN:TRUE
BEGIN:VEVENT
DTSTAMP:20260421T152059Z
DTSTART:20220709T230000Z
DTEND:20220709T230000Z
TRANSP:TRANSPARENT
UID:1062002022-07-10
SUMMARY:Lucy and Nora, voice lessons
DESCRIPTION:Ages 10 and 8.  Also taking piano lessons, switch off with Diana.  
URL:http://www.cmcatlanta.com/index.php/component/ohanah/lucy-and-nora-voice-lessons?format=html&amp;Itemid=
CATEGORIES:2013 Student Roster: Assignment Folder
GEO:
LOCATION:
END:VEVENT
END:VCALENDAR