BEGIN:VCALENDAR
PRODID:-//Feedo Feed//NONSGML v1.0//EN
VERSION:2.0
CALSCALE:GREGORIAN
METHOD:PUBLISH
X-WR-CALNAME:Lucy and Nora
X-WR-CALDESC:Sibings, ages 10 and 8.  Visiting from NJ and taking a few lessons this summer.  Also taking piano lessons, switch off with Diana.  
X-MS-OLK-FORCEINSPECTOROPEN:TRUE
BEGIN:VEVENT
DTSTAMP:20260421T163802Z
DTSTART:20220711T180000Z
DTEND:20220711T190000Z
TRANSP:TRANSPARENT
UID:1062012022-07-11
SUMMARY:Lucy and Nora
DESCRIPTION:Sibings, ages 10 and 8.  Visiting from NJ and taking a few lessons this summer.  Also taking piano lessons, switch off with Diana.  
URL:http://www.cmcatlanta.com/index.php/component/ohanah/lucy-and-nora?format=html&amp;Itemid=
CATEGORIES:Stephen Pepper
GEO:33.7704955;-84.29584339999997
LOCATION:CMC Decatur, Private Lesson
END:VEVENT
END:VCALENDAR