BEGIN:VCALENDAR
PRODID:-//Feedo Feed//NONSGML v1.0//EN
VERSION:2.0
CALSCALE:GREGORIAN
METHOD:PUBLISH
X-WR-CALNAME:Lyndon Warren
X-WR-CALDESC:In person
X-MS-OLK-FORCEINSPECTOROPEN:TRUE
BEGIN:VEVENT
DTSTAMP:20260420T095108Z
DTSTART:20201022T203000Z
DTEND:20201022T210000Z
TRANSP:TRANSPARENT
UID:910992020-10-22
SUMMARY:Lyndon Warren
DESCRIPTION:In person
URL:http://www.cmcatlanta.com/index.php/component/ohanah/lyndon-tottenham-11?format=html&amp;Itemid=
CATEGORIES:Peter Sloan
GEO:33.7704955;-84.29584339999997
LOCATION:CMC Decatur, Private Lesson
END:VEVENT
END:VCALENDAR