BEGIN:VCALENDAR
PRODID:-//Feedo Feed//NONSGML v1.0//EN
VERSION:2.0
CALSCALE:GREGORIAN
METHOD:PUBLISH
X-WR-CALNAME:Lyndon Warren
X-WR-CALDESC:In person
X-MS-OLK-FORCEINSPECTOROPEN:TRUE
BEGIN:VEVENT
DTSTAMP:20260420T131127Z
DTSTART:20210325T203000Z
DTEND:20210325T210000Z
TRANSP:TRANSPARENT
UID:911212021-03-25
SUMMARY:Lyndon Warren
DESCRIPTION:In person
URL:http://www.cmcatlanta.com/index.php/component/ohanah/lyndon-tottenham-20?format=html&amp;Itemid=
CATEGORIES:Peter Sloan
GEO:33.7704955;-84.29584339999997
LOCATION:CMC Decatur, Private Lesson
END:VEVENT
END:VCALENDAR