BEGIN:VCALENDAR
PRODID:-//Feedo Feed//NONSGML v1.0//EN
VERSION:2.0
CALSCALE:GREGORIAN
METHOD:PUBLISH
X-WR-CALNAME:Maggie Stearns
X-WR-CALDESC:In person.  
X-MS-OLK-FORCEINSPECTOROPEN:TRUE
BEGIN:VEVENT
DTSTAMP:20260420T195551Z
DTSTART:20201105T210000Z
DTEND:20201105T213000Z
TRANSP:TRANSPARENT
UID:904082020-11-05
SUMMARY:Maggie Stearns
DESCRIPTION:In person.  
URL:http://www.cmcatlanta.com/index.php/component/ohanah/maggie-stearns-244-30?format=html&amp;Itemid=
CATEGORIES:Peter Sloan
GEO:33.7704955;-84.29584339999997
LOCATION:CMC Decatur, Private Lesson
END:VEVENT
END:VCALENDAR