BEGIN:VCALENDAR
PRODID:-//Feedo Feed//NONSGML v1.0//EN
VERSION:2.0
CALSCALE:GREGORIAN
METHOD:PUBLISH
X-WR-CALNAME:Mara Shipman
X-WR-CALDESC:in-person guitar lessons in Little 5 Points
X-MS-OLK-FORCEINSPECTOROPEN:TRUE
BEGIN:VEVENT
DTSTAMP:20260423T074316Z
DTSTART:20211016T133000Z
DTEND:20211016T140000Z
TRANSP:TRANSPARENT
UID:1003982021-10-16
SUMMARY:Mara Shipman
DESCRIPTION:in-person guitar lessons in Little 5 Points
URL:http://www.cmcatlanta.com/index.php/component/ohanah/mara-shipman-43?format=html&amp;Itemid=
CATEGORIES:Scott Plato
GEO:33.7646878;-84.35068100000001
LOCATION:CMC Little 5 Points, Private Lesson
END:VEVENT
END:VCALENDAR