BEGIN:VCALENDAR
PRODID:-//Feedo Feed//NONSGML v1.0//EN
VERSION:2.0
CALSCALE:GREGORIAN
METHOD:PUBLISH
X-WR-CALNAME:Marco
X-WR-CALDESC:
X-MS-OLK-FORCEINSPECTOROPEN:TRUE
BEGIN:VEVENT
DTSTAMP:20260423T072150Z
DTSTART:20180517T183000Z
DTEND:20180517T190000Z
TRANSP:TRANSPARENT
UID:488172018-05-17
SUMMARY:Marco
DESCRIPTION:
URL:http://www.cmcatlanta.com/index.php/component/ohanah/marco-41?format=html&amp;Itemid=
CATEGORIES:Emily Hindes
GEO:33.7646878;-84.35068100000001
LOCATION:CMC Little 5 Points, Private Lesson
END:VEVENT
END:VCALENDAR