BEGIN:VCALENDAR
PRODID:-//Feedo Feed//NONSGML v1.0//EN
VERSION:2.0
CALSCALE:GREGORIAN
METHOD:PUBLISH
X-WR-CALNAME:Margaret Middler
X-WR-CALDESC:
X-MS-OLK-FORCEINSPECTOROPEN:TRUE
BEGIN:VEVENT
DTSTAMP:20260422T144432Z
DTSTART:20210624T153000Z
DTEND:20210624T160000Z
TRANSP:TRANSPARENT
UID:957432021-06-24
SUMMARY:Margaret Middler
DESCRIPTION:
URL:http://www.cmcatlanta.com/index.php/component/ohanah/margaret-middler?format=html&amp;Itemid=
CATEGORIES:Pedro Morales
GEO:33.7704955;-84.29584339999997
LOCATION:CMC Decatur, Private Lesson
END:VEVENT
END:VCALENDAR