BEGIN:VCALENDAR
PRODID:-//Feedo Feed//NONSGML v1.0//EN
VERSION:2.0
CALSCALE:GREGORIAN
METHOD:PUBLISH
X-WR-CALNAME:Yul Son
X-WR-CALDESC:
X-MS-OLK-FORCEINSPECTOROPEN:TRUE
BEGIN:VEVENT
DTSTAMP:20260422T000314Z
DTSTART:20220819T143000Z
DTEND:20220819T150000Z
TRANSP:TRANSPARENT
UID:1058602022-08-19
SUMMARY:Yul Son
DESCRIPTION:
URL:http://www.cmcatlanta.com/index.php/component/ohanah/mary-jane-wiseman-36-16?format=html&amp;Itemid=
CATEGORIES:Stephanie Cordoba 
GEO:
LOCATION:CMC Decatur Private Lesson
END:VEVENT
END:VCALENDAR