BEGIN:VCALENDAR
PRODID:-//Feedo Feed//NONSGML v1.0//EN
VERSION:2.0
CALSCALE:GREGORIAN
METHOD:PUBLISH
X-WR-CALNAME:Mary Johnson
X-WR-CALDESC:Attends St. Thomas More school, will be dropped off by parents for lessons and classes.  
X-MS-OLK-FORCEINSPECTOROPEN:TRUE
BEGIN:VEVENT
DTSTAMP:20260423T005054Z
DTSTART:20210810T203000Z
DTEND:20210810T210000Z
TRANSP:TRANSPARENT
UID:971722021-08-10
SUMMARY:Mary Johnson
DESCRIPTION:Attends St. Thomas More school, will be dropped off by parents for lessons and classes.  
URL:http://www.cmcatlanta.com/index.php/component/ohanah/mary-johnson?format=html&amp;Itemid=
CATEGORIES:Peter Sloan
GEO:33.7704955;-84.29584339999997
LOCATION:CMC Decatur, Private Lesson
END:VEVENT
END:VCALENDAR