BEGIN:VCALENDAR
PRODID:-//Feedo Feed//NONSGML v1.0//EN
VERSION:2.0
CALSCALE:GREGORIAN
METHOD:PUBLISH
X-WR-CALNAME:Matt Brower approved ABSENCE
X-WR-CALDESC:
X-MS-OLK-FORCEINSPECTOROPEN:TRUE
BEGIN:VEVENT
DTSTAMP:20260422T160801Z
DTSTART:20210628T040000Z
DTEND:20210704T220000Z
TRANSP:TRANSPARENT
UID:955202021-06-28
SUMMARY:Matt Brower approved ABSENCE
DESCRIPTION:
URL:http://www.cmcatlanta.com/index.php/component/ohanah/matt-brower-approved-absence?format=html&amp;Itemid=
CATEGORIES:Peter Sloan
GEO:33.7705095;-84.29586770000003
LOCATION:CMC Decatur, Faculty Assignment
END:VEVENT
END:VCALENDAR