BEGIN:VCALENDAR
PRODID:-//Feedo Feed//NONSGML v1.0//EN
VERSION:2.0
CALSCALE:GREGORIAN
METHOD:PUBLISH
X-WR-CALNAME:Matthew Blakely
X-WR-CALDESC:
X-MS-OLK-FORCEINSPECTOROPEN:TRUE
BEGIN:VEVENT
DTSTAMP:20260421T172757Z
DTSTART:20220718T143000Z
DTEND:20220718T150000Z
TRANSP:TRANSPARENT
UID:1063112022-07-18
SUMMARY:Matthew Blakely
DESCRIPTION:
URL:http://www.cmcatlanta.com/index.php/component/ohanah/matthew-blakely?format=html&amp;Itemid=
CATEGORIES:Emelyn Carden
GEO:33.9462125;-84.33464730000003
LOCATION:CMC Dunwoody, Private Lesson
END:VEVENT
END:VCALENDAR