BEGIN:VCALENDAR
PRODID:-//Feedo Feed//NONSGML v1.0//EN
VERSION:2.0
CALSCALE:GREGORIAN
METHOD:PUBLISH
X-WR-CALNAME:Maya Bercu
X-WR-CALDESC:online
X-MS-OLK-FORCEINSPECTOROPEN:TRUE
BEGIN:VEVENT
DTSTAMP:20260420T214535Z
DTSTART:20210112T193000Z
DTEND:20210112T200000Z
TRANSP:TRANSPARENT
UID:915832021-01-12
SUMMARY:Maya Bercu
DESCRIPTION:online
URL:http://www.cmcatlanta.com/index.php/component/ohanah/maya-bercu-58?format=html&amp;Itemid=
CATEGORIES:Richard Mills
GEO:33.7704955;-84.29584339999997
LOCATION:CMC Decatur, Private Lesson
END:VEVENT
END:VCALENDAR