BEGIN:VCALENDAR
PRODID:-//Feedo Feed//NONSGML v1.0//EN
VERSION:2.0
CALSCALE:GREGORIAN
METHOD:PUBLISH
X-WR-CALNAME:Maya Chotin ABSENT
X-WR-CALDESC:
X-MS-OLK-FORCEINSPECTOROPEN:TRUE
BEGIN:VEVENT
DTSTAMP:20260424T100338Z
DTSTART:20230807T200000Z
DTEND:20230807T203000Z
TRANSP:TRANSPARENT
UID:1119012023-08-07
SUMMARY:Maya Chotin ABSENT
DESCRIPTION:
URL:http://www.cmcatlanta.com/index.php/component/ohanah/maya-chotin?format=html&amp;Itemid=
CATEGORIES:Anna Dotsenko
GEO:33.7646878;-84.35068100000001
LOCATION:CMC Little 5 Points, Private Lesson
END:VEVENT
END:VCALENDAR