BEGIN:VCALENDAR
PRODID:-//Feedo Feed//NONSGML v1.0//EN
VERSION:2.0
CALSCALE:GREGORIAN
METHOD:PUBLISH
X-WR-CALNAME:Megan Neely
X-WR-CALDESC:In person, Dunwoody.
X-MS-OLK-FORCEINSPECTOROPEN:TRUE
BEGIN:VEVENT
DTSTAMP:20260421T043154Z
DTSTART:20210519T213000Z
DTEND:20210520T220000Z
TRANSP:TRANSPARENT
UID:949712021-05-19
SUMMARY:Megan Neely
DESCRIPTION:In person, Dunwoody.
URL:http://www.cmcatlanta.com/index.php/component/ohanah/megan-neely-17?format=html&amp;Itemid=
CATEGORIES:Stephen Pepper
GEO:33.9462125;-84.33464730000003
LOCATION:CMC Dunwoody, Private Lesson
END:VEVENT
END:VCALENDAR