BEGIN:VCALENDAR
PRODID:-//Feedo Feed//NONSGML v1.0//EN
VERSION:2.0
CALSCALE:GREGORIAN
METHOD:PUBLISH
X-WR-CALNAME:Michael Cook
X-WR-CALDESC:Online
X-MS-OLK-FORCEINSPECTOROPEN:TRUE
BEGIN:VEVENT
DTSTAMP:20260420T170638Z
DTSTART:20210105T130000Z
DTEND:20210105T133000Z
TRANSP:TRANSPARENT
UID:930072021-01-05
SUMMARY:Michael Cook
DESCRIPTION:Online
URL:http://www.cmcatlanta.com/index.php/component/ohanah/michael-cook-58?format=html&amp;Itemid=
CATEGORIES:Diana Orozco
GEO:
LOCATION:CMC Brookhaven, Private Lesson
END:VEVENT
END:VCALENDAR