BEGIN:VCALENDAR
PRODID:-//Feedo Feed//NONSGML v1.0//EN
VERSION:2.0
CALSCALE:GREGORIAN
METHOD:PUBLISH
X-WR-CALNAME:Mid-Winter Break: Decatur
X-WR-CALDESC:
X-MS-OLK-FORCEINSPECTOROPEN:TRUE
BEGIN:VEVENT
DTSTAMP:20260423T100129Z
DTSTART:20230213T040000Z
DTEND:20230219T220000Z
TRANSP:TRANSPARENT
UID:1060782023-02-13
SUMMARY:Mid-Winter Break: Decatur
DESCRIPTION:
URL:http://www.cmcatlanta.com/index.php/component/ohanah/mid-winter-break-decatur?format=html&amp;Itemid=
CATEGORIES:Master Calendar
GEO:33.7704955;-84.29584339999997
LOCATION:CMC Decatur
END:VEVENT
END:VCALENDAR