BEGIN:VCALENDAR
PRODID:-//Feedo Feed//NONSGML v1.0//EN
VERSION:2.0
CALSCALE:GREGORIAN
METHOD:PUBLISH
X-WR-CALNAME:Mila van Staden
X-WR-CALDESC:online
X-MS-OLK-FORCEINSPECTOROPEN:TRUE
BEGIN:VEVENT
DTSTAMP:20260420T215424Z
DTSTART:20210505T200000Z
DTEND:20210505T210000Z
TRANSP:TRANSPARENT
UID:914292021-05-05
SUMMARY:Mila van Staden
DESCRIPTION:online
URL:http://www.cmcatlanta.com/index.php/component/ohanah/mila-van-staden-114?format=html&amp;Itemid=
CATEGORIES:Richard Mills
GEO:33.7704955;-84.29584339999997
LOCATION:CMC Decatur, Private Lesson
END:VEVENT
END:VCALENDAR