BEGIN:VCALENDAR
PRODID:-//Feedo Feed//NONSGML v1.0//EN
VERSION:2.0
CALSCALE:GREGORIAN
METHOD:PUBLISH
X-WR-CALNAME:Milan Broz
X-WR-CALDESC:
X-MS-OLK-FORCEINSPECTOROPEN:TRUE
BEGIN:VEVENT
DTSTAMP:20260421T132154Z
DTSTART:20220609T210000Z
DTEND:20220609T213000Z
TRANSP:TRANSPARENT
UID:1057792022-06-09
SUMMARY:Milan Broz
DESCRIPTION:
URL:http://www.cmcatlanta.com/index.php/component/ohanah/milan-broz-1?format=html&amp;Itemid=
CATEGORIES:Akeal Evans
GEO:33.7646878;-84.35068100000001
LOCATION:CMC Little 5 Points, Private Lesson
END:VEVENT
END:VCALENDAR