BEGIN:VCALENDAR
PRODID:-//Feedo Feed//NONSGML v1.0//EN
VERSION:2.0
CALSCALE:GREGORIAN
METHOD:PUBLISH
X-WR-CALNAME:Milan Broz (no lesson this week, please remind your student)
X-WR-CALDESC:
X-MS-OLK-FORCEINSPECTOROPEN:TRUE
BEGIN:VEVENT
DTSTAMP:20260421T131340Z
DTSTART:20220707T210000Z
DTEND:20220707T213000Z
TRANSP:TRANSPARENT
UID:1057832022-07-07
SUMMARY:Milan Broz (no lesson this week, please remind your student)
DESCRIPTION:
URL:http://www.cmcatlanta.com/index.php/component/ohanah/milan-broz-5?format=html&amp;Itemid=
CATEGORIES:Akeal Evans
GEO:33.7646878;-84.35068100000001
LOCATION:CMC Little 5 Points, Private Lesson
END:VEVENT
END:VCALENDAR