BEGIN:VCALENDAR
PRODID:-//Feedo Feed//NONSGML v1.0//EN
VERSION:2.0
CALSCALE:GREGORIAN
METHOD:PUBLISH
X-WR-CALNAME:Miles Pliskin
X-WR-CALDESC:
X-MS-OLK-FORCEINSPECTOROPEN:TRUE
BEGIN:VEVENT
DTSTAMP:20260420T181835Z
DTSTART:20260429T143000Z
DTEND:20260429T150000Z
TRANSP:TRANSPARENT
UID:1308582026-04-29
SUMMARY:Miles Pliskin
DESCRIPTION:
URL:http://www.cmcatlanta.com/index.php/component/ohanah/miles-pliskin-68?format=html&amp;Itemid=
CATEGORIES:Kaela Barlow
GEO:
LOCATION:CMC Inman Park, Private Lesson
END:VEVENT
END:VCALENDAR