BEGIN:VCALENDAR
PRODID:-//Feedo Feed//NONSGML v1.0//EN
VERSION:2.0
CALSCALE:GREGORIAN
METHOD:PUBLISH
X-WR-CALNAME:Milo violin lesson
X-WR-CALDESC:testing to see which Evonee entry is the correct one.  
X-MS-OLK-FORCEINSPECTOROPEN:TRUE
BEGIN:VEVENT
DTSTAMP:20260423T202917Z
DTSTART:20210906T040000Z
DTEND:20210906T040000Z
TRANSP:TRANSPARENT
UID:1023302021-09-06
SUMMARY:Milo violin lesson
DESCRIPTION:testing to see which Evonee entry is the correct one.  
URL:http://www.cmcatlanta.com/index.php/component/ohanah/milo-violin-lesson?format=html&amp;Itemid=
CATEGORIES:Emelyn Carden
GEO:33.7646878;-84.35068100000001
LOCATION:CMC Little 5 Points, Private Lesson
END:VEVENT
END:VCALENDAR