BEGIN:VCALENDAR
PRODID:-//Feedo Feed//NONSGML v1.0//EN
VERSION:2.0
CALSCALE:GREGORIAN
METHOD:PUBLISH
X-WR-CALNAME:Mohan Monday
X-WR-CALDESC:
X-MS-OLK-FORCEINSPECTOROPEN:TRUE
BEGIN:VEVENT
DTSTAMP:20260421T220537Z
DTSTART:20230327T210000Z
DTEND:20230327T220000Z
TRANSP:TRANSPARENT
UID:1073312023-03-27
SUMMARY:Mohan Monday
DESCRIPTION:
URL:http://www.cmcatlanta.com/index.php/component/ohanah/mohan-monday-26?format=html&amp;Itemid=
CATEGORIES:Jenn Cornell
GEO:33.7704955;-84.29584339999997
LOCATION:CMC Decatur, Private Lesson
END:VEVENT
END:VCALENDAR