BEGIN:VCALENDAR
PRODID:-//Feedo Feed//NONSGML v1.0//EN
VERSION:2.0
CALSCALE:GREGORIAN
METHOD:PUBLISH
X-WR-CALNAME:Naomi Johnson (Wednesday)
X-WR-CALDESC:
X-MS-OLK-FORCEINSPECTOROPEN:TRUE
BEGIN:VEVENT
DTSTAMP:20260422T032026Z
DTSTART:20230118T200000Z
DTEND:20230118T203000Z
TRANSP:TRANSPARENT
UID:1099442023-01-18
SUMMARY:Naomi Johnson (Wednesday)
DESCRIPTION:
URL:http://www.cmcatlanta.com/index.php/component/ohanah/naomi-johnson-wednesday-16?format=html&amp;Itemid=
CATEGORIES:Stephanie Cordoba 
GEO:33.7704955;-84.29584339999997
LOCATION:CMC Decatur, Private Lesson
END:VEVENT
END:VCALENDAR