BEGIN:VCALENDAR
PRODID:-//Feedo Feed//NONSGML v1.0//EN
VERSION:2.0
CALSCALE:GREGORIAN
METHOD:PUBLISH
X-WR-CALNAME:Nathan Weiss
X-WR-CALDESC:
X-MS-OLK-FORCEINSPECTOROPEN:TRUE
BEGIN:VEVENT
DTSTAMP:20260422T115459Z
DTSTART:20210607T143000Z
DTEND:20210607T150000Z
TRANSP:TRANSPARENT
UID:955222021-06-07
SUMMARY:Nathan Weiss
DESCRIPTION:
URL:http://www.cmcatlanta.com/index.php/component/ohanah/nathan-weiss?format=html&amp;Itemid=
CATEGORIES:Peter Sloan
GEO:33.7704955;-84.29584339999997
LOCATION:CMC Decatur, Private Lesson
END:VEVENT
END:VCALENDAR