BEGIN:VCALENDAR
PRODID:-//Feedo Feed//NONSGML v1.0//EN
VERSION:2.0
CALSCALE:GREGORIAN
METHOD:PUBLISH
X-WR-CALNAME:Niki D'Elena
X-WR-CALDESC:Dropped off for lessons. 
X-MS-OLK-FORCEINSPECTOROPEN:TRUE
BEGIN:VEVENT
DTSTAMP:20260421T095951Z
DTSTART:20220531T213000Z
DTEND:20220531T220000Z
TRANSP:TRANSPARENT
UID:1013462022-05-31
SUMMARY:Niki D'Elena
DESCRIPTION:Dropped off for lessons. 
URL:http://www.cmcatlanta.com/index.php/component/ohanah/niki-d-elena-1-29?format=html&amp;Itemid=
CATEGORIES:Diana Orozco
GEO:33.7704955;-84.29584339999997
LOCATION:CMC Decatur, Private Lesson
END:VEVENT
END:VCALENDAR