BEGIN:VCALENDAR
PRODID:-//Feedo Feed//NONSGML v1.0//EN
VERSION:2.0
CALSCALE:GREGORIAN
METHOD:PUBLISH
X-WR-CALNAME:Niki D'Elena
X-WR-CALDESC:
X-MS-OLK-FORCEINSPECTOROPEN:TRUE
BEGIN:VEVENT
DTSTAMP:20260420T100310Z
DTSTART:20201016T210000Z
DTEND:20201016T213000Z
TRANSP:TRANSPARENT
UID:942752020-10-16
SUMMARY:Niki D'Elena
DESCRIPTION:
URL:http://www.cmcatlanta.com/index.php/component/ohanah/niki-d-elena-14?format=html&amp;Itemid=
CATEGORIES:Peter Sloan
GEO:33.7704955;-84.29584339999997
LOCATION:CMC Decatur, Private Lesson
END:VEVENT
END:VCALENDAR