BEGIN:VCALENDAR
PRODID:-//Feedo Feed//NONSGML v1.0//EN
VERSION:2.0
CALSCALE:GREGORIAN
METHOD:PUBLISH
X-WR-CALNAME:Nina Kapstein
X-WR-CALDESC:
X-MS-OLK-FORCEINSPECTOROPEN:TRUE
BEGIN:VEVENT
DTSTAMP:20260421T222930Z
DTSTART:20210123T143000Z
DTEND:20210123T153000Z
TRANSP:TRANSPARENT
UID:949522021-01-23
SUMMARY:Nina Kapstein
DESCRIPTION:
URL:http://www.cmcatlanta.com/index.php/component/ohanah/nina-kapstein?format=html&amp;Itemid=
CATEGORIES:Peter Sloan
GEO:33.7646878;-84.35068100000001
LOCATION:CMC Little 5 Points, Private Lesson
END:VEVENT
END:VCALENDAR