BEGIN:VCALENDAR
PRODID:-//Feedo Feed//NONSGML v1.0//EN
VERSION:2.0
CALSCALE:GREGORIAN
METHOD:PUBLISH
X-WR-CALNAME:Noa Gross and Maribel Colberg-Casolaro (uke)
X-WR-CALDESC:
X-MS-OLK-FORCEINSPECTOROPEN:TRUE
BEGIN:VEVENT
DTSTAMP:20260420T212223Z
DTSTART:20260504T154500Z
DTEND:20260504T161500Z
TRANSP:TRANSPARENT
UID:1308842026-05-04
SUMMARY:Noa Gross and Maribel Colberg-Casolaro (uke)
DESCRIPTION:
URL:http://www.cmcatlanta.com/index.php/component/ohanah/noa-gross-and-maribel-colberg-casolaro-uke-2?format=html&amp;Itemid=
CATEGORIES:Richelle Nunez
GEO:33.7704955;-84.29584339999997
LOCATION:CMC Decatur, Private Lesson
END:VEVENT
END:VCALENDAR