BEGIN:VCALENDAR
PRODID:-//Feedo Feed//NONSGML v1.0//EN
VERSION:2.0
CALSCALE:GREGORIAN
METHOD:PUBLISH
X-WR-CALNAME:Noa Gross (uke)
X-WR-CALDESC:
X-MS-OLK-FORCEINSPECTOROPEN:TRUE
BEGIN:VEVENT
DTSTAMP:20260425T120356Z
DTSTART:20260119T153000Z
DTEND:20260126T160000Z
TRANSP:TRANSPARENT
UID:1305442026-01-19
SUMMARY:Noa Gross (uke)
DESCRIPTION:
URL:http://www.cmcatlanta.com/index.php/component/ohanah/noa-gross-uke?format=html&amp;Itemid=
CATEGORIES:Shawn Charton
GEO:33.7704955;-84.29584339999997
LOCATION:CMC Decatur, Private Lesson
END:VEVENT
END:VCALENDAR