BEGIN:VCALENDAR
PRODID:-//Feedo Feed//NONSGML v1.0//EN
VERSION:2.0
CALSCALE:GREGORIAN
METHOD:PUBLISH
X-WR-CALNAME:Oliver Freeman
X-WR-CALDESC:
X-MS-OLK-FORCEINSPECTOROPEN:TRUE
BEGIN:VEVENT
DTSTAMP:20260424T055152Z
DTSTART:20211102T193000Z
DTEND:20211102T200000Z
TRANSP:TRANSPARENT
UID:1044722021-11-02
SUMMARY:Oliver Freeman
DESCRIPTION:
URL:http://www.cmcatlanta.com/index.php/component/ohanah/oliver-freeman-3?format=html&amp;Itemid=
CATEGORIES:Akeal Evans
GEO:33.7646878;-84.35068100000001
LOCATION:CMC Little 5 Points, Private Lesson
END:VEVENT
END:VCALENDAR