BEGIN:VCALENDAR
PRODID:-//Feedo Feed//NONSGML v1.0//EN
VERSION:2.0
CALSCALE:GREGORIAN
METHOD:PUBLISH
X-WR-CALNAME:Otto Kapelina Sellers
X-WR-CALDESC:
X-MS-OLK-FORCEINSPECTOROPEN:TRUE
BEGIN:VEVENT
DTSTAMP:20260424T040801Z
DTSTART:20230323T200000Z
DTEND:20230323T203000Z
TRANSP:TRANSPARENT
UID:1108902023-03-23
SUMMARY:Otto Kapelina Sellers
DESCRIPTION:
URL:http://www.cmcatlanta.com/index.php/component/ohanah/otto-kapelina-sellers-2?format=html&amp;Itemid=
CATEGORIES:Andre Fountain
GEO:33.7646878;-84.35068100000001
LOCATION:CMC Little 5 Points, Private Lesson
END:VEVENT
END:VCALENDAR