BEGIN:VCALENDAR
PRODID:-//Feedo Feed//NONSGML v1.0//EN
VERSION:2.0
CALSCALE:GREGORIAN
METHOD:PUBLISH
X-WR-CALNAME:Otto Kapelina Sellers
X-WR-CALDESC:
X-MS-OLK-FORCEINSPECTOROPEN:TRUE
BEGIN:VEVENT
DTSTAMP:20260424T003654Z
DTSTART:20230427T200000Z
DTEND:20230427T203000Z
TRANSP:TRANSPARENT
UID:1108952023-04-27
SUMMARY:Otto Kapelina Sellers
DESCRIPTION:
URL:http://www.cmcatlanta.com/index.php/component/ohanah/otto-kapelina-sellers-7?format=html&amp;Itemid=
CATEGORIES:Andre Fountain
GEO:33.7646878;-84.35068100000001
LOCATION:CMC Little 5 Points, Private Lesson
END:VEVENT
END:VCALENDAR